BEGIN:VCALENDAR
VERSION:2.0
PRODID:-//HMU-IRO - ECPv6.15.20//NONSGML v1.0//EN
CALSCALE:GREGORIAN
METHOD:PUBLISH
X-WR-CALNAME:HMU-IRO
X-ORIGINAL-URL:https://iro.hmu.gr
X-WR-CALDESC:Events for HMU-IRO
REFRESH-INTERVAL;VALUE=DURATION:PT1H
X-Robots-Tag:noindex
X-PUBLISHED-TTL:PT1H
BEGIN:VTIMEZONE
TZID:Europe/Athens
BEGIN:DAYLIGHT
TZOFFSETFROM:+0200
TZOFFSETTO:+0300
TZNAME:EEST
DTSTART:20240331T010000
END:DAYLIGHT
BEGIN:STANDARD
TZOFFSETFROM:+0300
TZOFFSETTO:+0200
TZNAME:EET
DTSTART:20241027T010000
END:STANDARD
BEGIN:DAYLIGHT
TZOFFSETFROM:+0200
TZOFFSETTO:+0300
TZNAME:EEST
DTSTART:20250330T010000
END:DAYLIGHT
BEGIN:STANDARD
TZOFFSETFROM:+0300
TZOFFSETTO:+0200
TZNAME:EET
DTSTART:20251026T010000
END:STANDARD
BEGIN:DAYLIGHT
TZOFFSETFROM:+0200
TZOFFSETTO:+0300
TZNAME:EEST
DTSTART:20260329T010000
END:DAYLIGHT
BEGIN:STANDARD
TZOFFSETFROM:+0300
TZOFFSETTO:+0200
TZNAME:EET
DTSTART:20261025T010000
END:STANDARD
END:VTIMEZONE
BEGIN:VEVENT
DTSTART;VALUE=DATE:20250922
DTEND;VALUE=DATE:20250927
DTSTAMP:20260426T071858
CREATED:20250803T114948Z
LAST-MODIFIED:20250904T140859Z
UID:142974-1758499200-1758931199@iro.hmu.gr
SUMMARY:International Week for Academic Libraries\, September 22-26\, 2025\, Heraklion
DESCRIPTION:We would like to invite you to our International Week that will be held from September 22 to September 26\, 2025 at the Central Library of the Hellenic Mediterranean University\, located in the city of Heraklion in Greece. \nAcademic libraries face significant challenges resulting from declining budgets and aging staff. Hard times require hard work and collaboration and the exchange of experiences is important. Getting together and sharing our knowledge and ideas is the basic purpose of this international week that we organize. Our program appeals mostly to librarians with a background in Open Science\, Digitalization\, Library Services for Persons with Disabilities\, Library consortiums\, Information literacy. Presentations and social events aim to provide our participants with both knowledge and leisure that they expect to find in a country like Greece! \nThe programme comprises presentations\, library and cultural site visits\, and social events. Find out more here: https://1st-hmu-iw4academic-libraries.my.canva.site/ \nThe main themes that will be covered include: \n\nLibrary Consortiums\nDigitalization\nLibrary Services for Persons with Disabilities\nOpen Science\nInformation literacy\n\nAn additional main objective of the training week is to facilitate the exchange of knowledge and expertise between the participants and the Hellenic Mediterranean University’s library staff and of networking prospects. \nWe invite every person involving in the library field to join our International Week. You will  have the opportunity to enjoy Greek hospitality and get to know the Cretan culture which is influenced by Minoan\, Venetian and Turkish culture. \nTo take part\, you need to register here. \nThe maximum number of participants is 40\, while there are no registration or participation fees. However\, participants should make arrangements on their own regarding travel\, accommodation and living\, the cost of which should be covered by Erasmus+ mobility grants from their home institutions. \nThe working language of the training week will be English. \nThe application deadline is Friday July 11th\, 2025. Applications will be evaluated on a first come first served basis\, while relative replies will be sent immediately after evaluating each application. \nErasmus participants from EU countries: \nPlease check the application process for teaching for participants from KA131 European countries here. \nPlease check the application process for training for participants from KA131 European countries here. \nDr. Gareth Owens\, International Relations Office Director \nE-mail: ogareth@hmu.gr \nTelephone:  +302810379312 \nInternational participants from non-European countries: \nPlease check the application process for teaching/training for participants from KA171 non-European countries here. \nMs Evi Kotti\, IRO Administrative Staff \nEmail:  kottievi@hmu.gr \nTelephone: +302810-379174 \nAdditional information about the Hellenic Mediterranean University Library and Information Centre can be found at the following website (English language version): \nhttps://lib.hmu.gr/en/home/ \nInformation about the city of Heraklion can be found at the following websites: \nhttps://en.wikipedia.org/wiki/Heraklion \nCoach (bus) timetables (to and from Heraklion : https://www.ktelherlas.gr/en   \nHotels in Heraklion: https://www.greekhotels.gr/gr/crete_hotels/heraklion_hotels/heraklion_city_hotels.asp \nTravel to Heraklion: https://wikitravel.org/en/Heraklion \, https://www.visitgreece.gr/islands/crete/irakleio/ \n  \n\n\n\nAttachments:  \nHMU campus – map \nCandia tour information \nInformation International week
URL:https://iro.hmu.gr/event/international-week-for-academic-libraries-22nd-26th-of-september-2025-hmu-heraklion-crete-greece/
LOCATION:Hellenic Mediterranean University\, Heraklion Campus\, Heraklion\, Greece
ATTACH;FMTTYPE=image/png:https://iro.hmu.gr/wp-content/uploads/2025/08/POSTER-300x300-1.png
ORGANIZER;CN="Katerina Voutiraki":MAILTO:kvoutiraki@hmu.gr
END:VEVENT
END:VCALENDAR