BEGIN:VCALENDAR
VERSION:2.0
PRODID:-//HMU-IRO - ECPv6.15.20//NONSGML v1.0//EN
CALSCALE:GREGORIAN
METHOD:PUBLISH
X-ORIGINAL-URL:https://iro.hmu.gr
X-WR-CALDESC:Events for HMU-IRO
REFRESH-INTERVAL;VALUE=DURATION:PT1H
X-Robots-Tag:noindex
X-PUBLISHED-TTL:PT1H
BEGIN:VTIMEZONE
TZID:Europe/Athens
BEGIN:DAYLIGHT
TZOFFSETFROM:+0200
TZOFFSETTO:+0300
TZNAME:EEST
DTSTART:20240331T010000
END:DAYLIGHT
BEGIN:STANDARD
TZOFFSETFROM:+0300
TZOFFSETTO:+0200
TZNAME:EET
DTSTART:20241027T010000
END:STANDARD
BEGIN:DAYLIGHT
TZOFFSETFROM:+0200
TZOFFSETTO:+0300
TZNAME:EEST
DTSTART:20250330T010000
END:DAYLIGHT
BEGIN:STANDARD
TZOFFSETFROM:+0300
TZOFFSETTO:+0200
TZNAME:EET
DTSTART:20251026T010000
END:STANDARD
BEGIN:DAYLIGHT
TZOFFSETFROM:+0200
TZOFFSETTO:+0300
TZNAME:EEST
DTSTART:20260329T010000
END:DAYLIGHT
BEGIN:STANDARD
TZOFFSETFROM:+0300
TZOFFSETTO:+0200
TZNAME:EET
DTSTART:20261025T010000
END:STANDARD
END:VTIMEZONE
BEGIN:VEVENT
DTSTART;TZID=Europe/Athens:20251014T100000
DTEND;TZID=Europe/Athens:20251014T140000
DTSTAMP:20260426T040105
CREATED:20251004T191345Z
LAST-MODIFIED:20260314T144704Z
UID:143497-1760436000-1760450400@iro.hmu.gr
SUMMARY:Sharing ERASMUS experiences!
DESCRIPTION:The Hellenic Mediterranean University (HMU) is delighted to celebrate #ErasmusDays 2025 with a one-day event titled “Sharing Erasmus Experiences”. Faculty members\, administrative staff\, and students will come together to present their personal Erasmus stories\, highlighting the academic\, professional\, and cultural impact of international mobility. Through short presentations\, participants will reflect on their motivations\, share memorable moments\, discuss challenges\, and showcase the benefits of studying\, teaching\, or training abroad. The event will also provide advice and inspiration for future participants while fostering dialogue on new opportunities for collaboration. Join us on 14 October to celebrate the spirit of Erasmus and the transformative power of internationalization within the HMU community. \nRegister to attend the event online (audio in Greek\, slides in English). \n			\n				\n				\n				\n				\n				\n\n\n10:00-10:10\nWelcome\n\n\n10:10-10:25\nMichail Zografakis Sfakianakis\n\n\n10:25-10:40\nAfroditi Fanouraki\n\n\n10:40-10:55\nIoannis Praskidis\n\n\n10:55-11:10\nIrini Dimou\n\n\n11:10-11:25\nEva Strataki\n\n\n11:25-11:40\nCoffee Break\n\n\n11:40-11:55\nMaria Astroulaki\n\n\n11:55-12:10\nKostas Petridis\n\n\n12:10-12:25\nGeorge Papadopoulos\n\n\n12:25-13:30\nERASMUS Info Day\n\n\n\n			\n			\n				\n				\n				\n				\n			\n				\n				\n				\n				\n				\n				\n				\n				\n				\n				\n				Meet the speakers\n			\n				\n				\n				\n				\n				\n				\n					Kostas Petridis\n					Vice Rector for Internationalization and Outreach\, HMU \n					Dr. Konstantinos Petridis is a Professor in the Department of Electronic Engineering at HMU. His research focuses on organic photovoltaics\, graphene-based materials\, and laser technologies\, and he has coordinated numerous Erasmus+ and H2020 projects. He has authored over 60 publications with 1\,800+ citations and serves as Vice Rector for Internationalization and Outreach. \n					FacebookLinkedIn\n				\n			\n				\n				\n				\n				\n				\n				\n					Eva Strataki\n					Head of Department of Information Systems Management\, HMU \n					Eva Strataki is the Head of the Department of Information Systems Management at the Library and Informatics Directorate of the Hellenic Mediterranean University (HMU). Her work focuses on the coordination of IT operations\, management of central systems and applications\, and the optimization of digital infrastructure. She also contributes to strategic planning in technology procurement and system maintenance. Eva holds a Master’s degree in Informatics and Multimedia. \n					LinkedIn\n				\n			\n				\n				\n				\n				\n				\n				\n					Ioannis Daliakopoulos\n					Asst. Professor\, Dept of Agriculture\, Academic Coordinator of IRO\, HMU \n					Dr. Ioannis Daliakopoulos is an Assistant Professor in the Department of Agriculture at the Hellenic Mediterranean University (HMU). His work focuses on smart technologies for sustainable soil and water management\, combining sensors\, satellite data\, and computer models. He has led several European projects on climate change and soil protection and was included in the 2024 Stanford list of top-cited researchers in Environmental Engineering and Sciences with over 60 publications and 4\,200+ citations. \n					FacebookXLinkedIn\n				\n			\n				\n				\n				\n				\n				\n				\n					Afroditi Fanouraki\n					Deputy Head of Secretariat\, Dept of Business Administration and Tourism\, HMU \n					Afroditi Fanouraki is a Senior Administrative Officer at HMU\, where she has worked for over 28 years\, serving since 2015 as Head of the Secretariat of the Department of Business Administration and Tourism. She holds degrees in European Civilization and Agricultural Technology\, a Master’s in Public Administration with a focus on Educational Management\, and has completed a nine-month specialization in Human Resource Management. She has also participated in numerous training programs in Greece and abroad related to administration and organizational development. \n					\n				\n			\n				\n				\n				\n				\n				\n				\n					Irini Dimou\n					  Associate Professor\, Dept of Business Administration and Tourism\, HMU \n					Dr. Irini Dimou is an Associate Professor of Strategic Tourism Management in the Department of Business Administration and Tourism at the Hellenic Mediterranean University (HMU)\, where she also serves as Head of Department and Director of the MSc in Tourism and Hospitality Management. Her work focuses on tourism strategy\, destination competitiveness\, and innovation\, linking academia and industry through European collaborations. She holds a PhD from the University of Surrey (UK) and her research appears in leading international tourism journals. \n					LinkedIn\n				\n			\n				\n				\n				\n				\n				\n				\n					George Papadopoulos\n					Erasmus Student Network (ESN) Ex-President\, HMU \n					Georgios Papadopoulos is a Mechanical Engineering student at the Hellenic Mediterranean University (HMU)\, specializing in Automation and Robotics. He has led and participated in international projects and summer schools across Europe and won the 1st ATHENA Hackathon on Sustainable Development Goals. Active in student leadership\, he has served as President of ESN HMU Crete\, Public Relations Secretary of the ATHENA Student Board\, and Team Leader at AIESEC\, promoting international collaboration\, innovation\, and sustainability. \n					LinkedIn\n				\n			\n				\n				\n				\n				\n				\n				\n					Michalis Zografakis Sfakianakis\n					Associate Professor\, Dept of Nursing\, HMU \n					Dr. Michail Zografakis-Sfakianakis is an Associate Professor of Nursing at the Hellenic Mediterranean University (HMU)\, Greece\, and Director of the MSc in Advanced Clinical Practice in Health Sciences. His research focuses on emergency and intensive care nursing\, early warning systems\, and patient safety\, and he has supervised numerous MSc and PhD theses. He serves as a reviewer for international journals\, has authored multiple peer-reviewed papers\, and contributes to national and European academic initiatives in health education and clinical practice. \n					LinkedIn\n				\n			\n				\n				\n				\n				\n				\n				\n					Maria Astroulaki\n					Student\, Dept of Agriculture\, HMU Career Student Ambassador \n					Maria Astroulaki is a 4th year undergraduate student at the Department of Agriculture of HMU. She has attended a semester of studies at the Czech University of Life Sciences in Prague (CZU) and through this experience she gained inspiration and motivation to engage more with mobility within the university. She took on the position of Vice President in the ESN HMU and was also selected as an EU Careers student ambassador of HMU for 2025-26. \n					LinkedIn\n				\n			\n				\n				\n				\n				\n				\n				\n					Giannis Praskidis Alympakis\n					Student\, Dept of Agriculture\, HMU\, Intern at INRAE\, France \n					Giannis Praskidis Alympakis is a final year agriculture student. Over the past two years he has participated in 3 Erasmus + mobilities\, exploring the full agenda of IRO-HMU outgoing actions. His most recent experience was a half a year internship in a research center in France\, where he gained language\, culture\, academic and research knowledge for his future personal and professional growth.
URL:https://iro.hmu.gr/event/share-your-erasmus-experience/
LOCATION:Hellenic Mediterranean University\, Heraklion Campus\, Heraklion\, Greece
ATTACH;FMTTYPE=image/png:https://iro.hmu.gr/wp-content/uploads/2025/10/erasmus_experiences.fw_.png
ORGANIZER;CN="Ioannis Daliakopoulos":MAILTO:idaliak@hmu.gr
END:VEVENT
END:VCALENDAR